BEGIN:VCALENDAR
VERSION:2.0
PRODID:-//Library Market//iCal Export//EN
BEGIN:VEVENT
SUMMARY:Paint Night in The Garden With Jenn
UID:22283
DTSTAMP:20260419T120400Z
DTSTART:20260625T220000Z
DTEND:20260626T000000Z
LOCATION:Dillsburg Area Public Library, 204 Mumper Lane, Dillsburg, PA 170
 19, United States
ROOM: DIL Lawn Area
DESCRIPTION:Join us for a relaxing and creative evening in our beautiful l
 ibrary garden! We are delighted to have Jenn Brann, one of our own dedicat
 ed Library Board members, guide us as we paint a vibrant sunflower. Whethe
 r you are a seasoned artist or have never picked up a brush, you’ll find
  this to be a welcoming and friendly environment—no prior experience is 
 necessary!This event is a fundraiser to support our library&#039;s program
 s and services.Cost: $30 per person (includes all painting supplies).Payme
 nt: Due at the event. We accept cash, check, or credit cards.What to bring
 : Please feel free to bring your own snacks or beverages to enjoy while th
 e paint dries.Rain Date: Monday, June 29th.Registration is required to ens
 ure we have enough supplies for everyone. Please sign up below to reserve 
 your spot!
URL:https://events.yorklibraries.org/Dillsburg_Paint_Night
END:VEVENT
END:VCALENDAR
