BEGIN:VCALENDAR
VERSION:2.0
PRODID:-//Library Market//iCal Export//EN
BEGIN:VEVENT
SUMMARY:Baby and Toddler Story Time
UID:22301
DTSTAMP:20260419T214100Z
DTSTART:20260526T143000Z
DTEND:20260526T153000Z
LOCATION:32 Main St, Glen Rock, PA 17327, United States
ROOM: HUF Children&#039;s Room
DESCRIPTION:Babies and toddlers will enjoy stories and playtime together! 
 No registration necessary.
URL:https://events.yorklibraries.org/event/baby-and-toddler-story-time-223
 01
END:VEVENT
END:VCALENDAR
