BEGIN:VCALENDAR
VERSION:2.0
PRODID:-//Library Market//iCal Export//EN
BEGIN:VEVENT
SUMMARY:Community Concert
UID:22315
DTSTAMP:20260419T183100Z
DTSTART:20260425T190000Z
DTEND:20260425T210000Z
LOCATION:Zion Lutheran Church, 49 Hanover Street, Glen Rock, PA 17327, Uni
 ted States
ROOM: HUF Offsite Location
DESCRIPTION:Join us for an afternoon of music, including a community choir
 , a string ensemble of local students and professional musicians, and solo
 ist Troy Winemiller. Donations will be taken at the door and the proceeds 
 will benefit the Hufnagel Public Library and Paul Smith Library. Arthur&#0
 39;s Friends will also be selling baked goods. 
URL:https://events.yorklibraries.org/event/community-concert-22315
END:VEVENT
END:VCALENDAR
