BEGIN:VCALENDAR
VERSION:2.0
PRODID:-//Library Market//iCal Export//EN
BEGIN:VEVENT
SUMMARY:Camp Security with Friends of Camp Security
UID:22337
DTSTAMP:20260422T025800Z
DTSTART:20260512T223000Z
DTEND:20260512T233000Z
LOCATION:Dillsburg Area Public Library, 204 Mumper Lane, Dillsburg, PA 170
 19, United States
ROOM: DIL Adult Area
DESCRIPTION:Join the Friends of Camp Security at the Dillsburg Area Public
  Library for a captivating presentation on York County’s unique Revoluti
 onary War history. This program will discuss the late-war camp located jus
 t outside of York and the ongoing efforts to preserve this significant arc
 haeological site. It is a must-attend event for local history buffs and an
 yone curious about the region’s pivotal role in the struggle for indepen
 dence as we reflect on America’s upcoming 250th birthday. For more info
 rmation on the camp or the Friends of Camp Security, visit www.campsecurit
 y.org. No registration is required for this free program.
URL:https://events.yorklibraries.org/event/camp-security-friends-camp-secu
 rity-22337
END:VEVENT
END:VCALENDAR
