BEGIN:VCALENDAR
VERSION:2.0
PRODID:-//Library Market//iCal Export//EN
BEGIN:VEVENT
SUMMARY:Bridging the Gap
UID:22338
DTSTAMP:20260422T045900Z
DTSTART:20260506T223000Z
DTEND:20260506T233000Z
LOCATION:Dover Area Community Library, 3700-3 Davidsburg Road, Dover, PA 1
 7315, United States
ROOM: Bridging the Gap
DESCRIPTION:Medicare. Social Security. Asset Management. These are topics
  that don’t necessarily keep pre-retirees on the edge of their seats, bu
 t they are topics that keep them up at night!What if the market drops? How
  would my accounts fare out?Will we have another recession and, if so, whe
 n will that happen?How much of my portfolio is currently at risk?Can I obt
 ain protection from loss while still growing my retirement accounts?How ca
 n I create a sustainable lifetime income stream to replace my employment i
 ncome once I quit punching the clock?To answer these questions and accompl
 ish your retirement goals, you need a financial engineer with a specialize
 d skill set.Join Professor Sean K. Clark for a special event at our librar
 y! Sean is a Professor of Practice as well as a Master Registered Financia
 l Consultant and a Certified Financial Education Instructor. He will be s
 haring key points from his new book, Bridge the Gap: Planning for a Confi
 dent Retirement. The seminar is free. Your copy of his new book is free. 
 The wisdom you will gain is priceless.Join us at Dover Library on May 6th 
 at 6:30PM! Register here (preferred) or below by May 5th, 2026!
URL:https://events.yorklibraries.org/event/bridging-gap-22338
END:VEVENT
END:VCALENDAR
