BEGIN:VCALENDAR
VERSION:2.0
PRODID:-//Library Market//iCal Export//EN
BEGIN:VEVENT
SUMMARY:Smarter Parents, Safer Kids
UID:22339
DTSTAMP:20260422T045900Z
DTSTART:20260508T151500Z
DTEND:20260508T170000Z
LOCATION:Dillsburg Area Public Library, 204 Mumper Lane, Dillsburg, PA 170
 19, United States
ROOM: DIL Public Meeting Room
DESCRIPTION:Parents and caregivers have a significant influence over their
  children throughout the various stages of their development. Do you want 
 to learn how to create a protective environment for your children? Smarter
  Parents. Safer Kids. offers a parent-focused workshop that addresses chal
 lenging topics such as:· What does healthy sexual development look like a
 t various ages?· How to effectively communicate with your children about 
 personal boundaries.· How to keep your children safe from sexual abuse.Th
 is workshop is brought to you by the York County Children’s Advocacy Cen
 ter. Visit www.yorkcac.org to learn more.
URL:https://events.yorklibraries.org/event/smarter-parents-safer-kids-2233
 9
END:VEVENT
END:VCALENDAR
