BEGIN:VCALENDAR
VERSION:2.0
PRODID:-//Library Market//iCal Export//EN
BEGIN:VEVENT
SUMMARY:Dillsburg Library Book Discussion Group: The Dog Stars
UID:22340
DTSTAMP:20260422T032100Z
DTSTART:20260514T223000Z
DTEND:20260514T231500Z
LOCATION:Dillsburg Area Public Library, 204 Mumper Lane, Dillsburg, PA 170
 19, United States
ROOM: DIL Adult Area
DESCRIPTION:Book Discussion GroupJoin us for an engaging conversation as w
 e dive into The Dog Stars by Peter Heller. This post-apocalyptic narrative
  follows a pilot living a secluded life in a transformed world, exploring 
 themes of survival, loss, and the enduring human spirit. Whether you were 
 moved by the prose or intrigued by the setting, we look forward to hearing
  your perspective and insights on this evocative story.B.Y.O.B. (Bring You
 r Own Book) on June 18 at 6:30 PMLooking for your next great read or eager
  to share a recent favorite? Our casual book chat is the perfect place to 
 connect with fellow bibliophiles. There are no assigned readings here—ju
 st bring whatever you are currently enjoying and enjoy a relaxed discussio
 n about what makes a book worth picking up. It’s a fantastic way to disc
 over new genres and authors through the recommendations of your neighbors.
URL:https://events.yorklibraries.org/event/dillsburg-library-book-discussi
 on-group-dog-stars-22340
END:VEVENT
END:VCALENDAR
