BEGIN:VCALENDAR
VERSION:2.0
PRODID:-//Library Market//iCal Export//EN
BEGIN:VEVENT
SUMMARY:Fascinating and Funny Fauna with Jon Dale
UID:22341
DTSTAMP:20260423T083500Z
DTSTART:20260518T223000Z
DTEND:20260518T234500Z
LOCATION:Dillsburg Area Public Library, 204 Mumper Lane, Dillsburg, PA 170
 19, United States
ROOM: DIL Adult Area
DESCRIPTION:Are you ready for some humor and enlightening entertainment to
  brighten your day and learn about the natural world at the same time? “
 Fascinating and Funny Fauna” is a collection of fascinating, humorous, o
 r unusual nature photos of the fauna of Pennsylvania and other states. Bei
 ng “in the right place at the right time” is what many times allows an
 y photographer of the natural world to capture unique, one-of-a-kind shots
 . You’ll be amazed at what nature has to offer those who are observant a
 nd patient.Join local naturalist Jon Dale’s presentation and enjoy birds
  and other fauna that are “up close and personal” including many that 
 present in a humorous manner. Included in the presentation are “Budding 
 Birdbrains,” “Charming Chicks,” “Headless Wonders,” “Camoflaug
 ed Creatures,” “Rauchous Rodentia,” “Amusing Mammals,” “Incred
 ible Insects,” “Awesome Amphibians,” “Rambunctious Reptiles” and
  more.They’ll be some fun opportunities for audience participation and i
 nteraction with the presentation while enjoying and learning about nature
 s creatures. No registration is required for this free program
URL:https://events.yorklibraries.org/event/fascinating-and-funny-fauna-jon
 -dale-22341
END:VEVENT
END:VCALENDAR
