BEGIN:VCALENDAR
VERSION:2.0
PRODID:-//Library Market//iCal Export//EN
BEGIN:VEVENT
SUMMARY:Bob Dylan Celebration with Doug Morris
UID:22343
DTSTAMP:20260423T083500Z
DTSTART:20260520T223000Z
DTEND:20260520T234500Z
LOCATION:Dillsburg Area Public Library, 204 Mumper Lane, Dillsburg, PA 170
 19, United States
ROOM: DIL Adult Area
DESCRIPTION:Celebrate the musical and cultural contributions of Nobel Pri
 ze for Literature winner and iconic figure in the world of music Bob Dyla
 n. Songs, commentaries, images, and some lyrics will be shared. Dylan has 
 recorded more than 600 songs but we can only share about 25, including: &q
 uot;Blowing in the Wind,&quot; &quot;Tangled Up in Blue,&quot; &quot;All A
 long the Watchtower,&quot; &quot;Forever Young,&quot; &quot;A Hard Rains G
 onna Fall,&quot; &quot;Masters of War,&quot; &quot;Shelter from the Storm,
 &quot; etc. Audience participation is encouraged. All are welcome!  Guita
 rist, singer, and West Chester University professor Doug Morris will pre
 sent this program. 
URL:https://events.yorklibraries.org/event/bob-dylan-celebration-doug-morr
 is-22343
END:VEVENT
END:VCALENDAR
