BEGIN:VCALENDAR
VERSION:2.0
PRODID:-//Library Market//iCal Export//EN
BEGIN:VEVENT
SUMMARY:Cooks and Books: Off Menu by Amy Rosen
UID:22344
DTSTAMP:20260423T100900Z
DTSTART:20260526T223000Z
DTEND:20260526T223000Z
LOCATION:Dillsburg Area Public Library, 204 Mumper Lane, Dillsburg, PA 170
 19, United States
ROOM: DIL Adult Area
DESCRIPTION:Dust off your aprons and bring your appetite! This month, we a
 re exploring Off Menu by Amy Rosen. To participate, simply read through t
 his flavorful collection and prepare a dish mentioned in the book to share
  with the group. It’s a wonderful opportunity to see how the printed wor
 d translates to the plate while enjoying a potluck-style gathering with fe
 llow food enthusiasts. No registration is required—just bring your dish
  and your thoughts on the book!
URL:https://events.yorklibraries.org/event/cooks-and-books-menu-amy-rosen-
 22344
END:VEVENT
END:VCALENDAR
