BEGIN:VCALENDAR
VERSION:2.0
PRODID:-//Library Market//iCal Export//EN
BEGIN:VEVENT
SUMMARY:Friends of the Dover Library Book Sale
UID:22384
DTSTAMP:20260422T025800Z
DTSTART:20260516T140000Z
DTEND:20260516T180000Z
LOCATION:Brookside Park, 4054 Fox Run Road, Dover, PA 17315, United States
ROOM: DOV Offsite Location
DESCRIPTION:Join the Dover Library Friends at Brookside Park for books, pl
 ants, and a bake sale! 
URL:https://events.yorklibraries.org/event/friends-dover-library-book-sale
 -22384
END:VEVENT
END:VCALENDAR
