BEGIN:VCALENDAR
VERSION:2.0
PRODID:-//Library Market//iCal Export//EN
BEGIN:VEVENT
SUMMARY:Kids Book Club
UID:22392
DTSTAMP:20260422T045900Z
DTSTART:20260428T160000Z
DTEND:20260428T170000Z
LOCATION:32 Main St, Glen Rock, PA 17327, United States
ROOM: Kids Book Club
DESCRIPTION:Join us for Book Club for Kids on the 2nd and 4th Tuesdays o
 f the month from 12-1 pm starting on Tuesday, April 28th, 2026! Explore th
 e world of reading, meet biweekly for discussions about the books, the the
 me of the month, and build confidence in sharing opinions. Perfect for you
 ng readers (ages 8-12) looking to make friends and dive into stories toget
 her. For our first meeting, please bring along what you are currently read
 ing or one of your favorite books to talk about. We will discuss future pl
 ans for the book club, and vote on the name of the book club together. 
URL:https://events.yorklibraries.org/event/kids-book-club-22392
END:VEVENT
END:VCALENDAR
