BEGIN:VCALENDAR
VERSION:2.0
PRODID:-//Library Market//iCal Export//EN
BEGIN:VEVENT
SUMMARY:Crochet Meetup
UID:22427
DTSTAMP:20260421T235300Z
DTSTART:20261116T220000Z
DTEND:20261116T230000Z
LOCATION:Paul Smith Library of Southern York County, 80 Constitution Avenu
 e, Shrewsbury, PA 17361, United States
ROOM: Crochet Meetup
DESCRIPTION:Organized to bring together those in the community who enjoy c
 rochet, this group will plan to meet every other Monday evening as an oppo
 rtunity to network with other crochet enthusiasts, share projects, and gai
 n inspiration and support.Bring your own materials - hook, yarn (worsted w
 eight is best), scissors, stitch marker.  All experience levels welcomed,
  but you should be familiar with the basics of crochet.
URL:https://events.yorklibraries.org/event/crochet-meetup-22427
END:VEVENT
END:VCALENDAR
