BEGIN:VCALENDAR
VERSION:2.0
PRODID:-//Library Market//iCal Export//EN
BEGIN:VEVENT
SUMMARY:American Mah Jongg
UID:22433
DTSTAMP:20260422T045000Z
DTSTART:20260609T220000Z
DTEND:20260609T234500Z
LOCATION:Paul Smith Library of Southern York County, 80 Constitution Avenu
 e, Shrewsbury, PA 17361, United States
ROOM: American Mah Jongg
DESCRIPTION:Join us for an evening of American Mah Jongg play, open to all
  who enjoy playing or who would like to learn.If you have a Mah Jongg set,
  please bring it with you. If you do not have a 2025 or 2026 card, generic
  cards will be provided.
URL:https://events.yorklibraries.org/event/american-mah-jongg-22433
END:VEVENT
END:VCALENDAR
