BEGIN:VCALENDAR
VERSION:2.0
PRODID:-//Library Market//iCal Export//EN
BEGIN:VEVENT
SUMMARY:Backgammon
UID:22437
DTSTAMP:20260422T064800Z
DTSTART:20260602T220000Z
DTEND:20260602T234500Z
LOCATION:Paul Smith Library of Southern York County, 80 Constitution Avenu
 e, Shrewsbury, PA 17361, United States
ROOM: Backgammon
DESCRIPTION:Backgammon is one of the world&#039;s oldest games.  It is a 
 balance of strategy and luck; easy to learn but hard to master.  Games of
  backgammon are fast and dynamic, and the dice ensure no two games are eve
 r the same.Come join us to learn or play - best for teens and up.
URL:https://events.yorklibraries.org/event/backgammon-22437
END:VEVENT
END:VCALENDAR
