BEGIN:VCALENDAR
VERSION:2.0
PRODID:-//Library Market//iCal Export//EN
BEGIN:VEVENT
SUMMARY:The Pillars Of Retirement
UID:22450
DTSTAMP:20260426T001400Z
DTSTART:20260505T223000Z
DTEND:20260505T234500Z
LOCATION:Kreutz Creek Library, 66 Walnut Springs Road, Hellam, PA 17406, U
 nited States
ROOM: KRE Community Room
DESCRIPTION:Medicare.Â  Social Security.Â  Asset Management.Â These are to
 pics that donâ€™t necessarily keep pre-retirees on the edge of their seats
 , but they are topics that keep them up at night!Â·Â Â Â Â Â Â Â  What if 
 the market drops?Â  How would my accounts fare out?Â·Â Â Â Â Â Â Â  Will w
 e have another recession and, if so, when will that happen?Â·Â Â Â Â Â Â Â
   How much of my portfolio is currently at risk?Â·Â Â Â Â Â Â Â  Can I obt
 ain protection from loss while still growing my retirement accounts?Â·Â Â 
 Â Â Â Â Â  How can I create a sustainable lifetime income stream to replac
 e my employment income once I quit punching the clock?To answer these ques
 tions and accomplish your retirement goals, you need a financial engineer 
 with a specialized skill set.Join Professor Sean K. Clark for a special ev
 ent at our library!Â  Sean is a Master Registered Financial Consultant, a 
 Certified Financial Education Instructor, and a Professor of Practice.Â  H
 e will be sharing key points from his new bookÂ Bridge the Gap: Planning f
 or a Confident Retirement.Â The seminar is free.Â  Your copy of his new bo
 ok is free.Â  The wisdom you will gain is priceless.Please register to att
 end using the link below:Register HereÂ 
URL:https://events.yorklibraries.org/event/pillars-retirement-22450
END:VEVENT
END:VCALENDAR
