BEGIN:VCALENDAR
VERSION:2.0
PRODID:-//Library Market//iCal Export//EN
BEGIN:VEVENT
SUMMARY:Martin Library Block Party &amp; SummerQuest Kick off
UID:22462
DTSTAMP:20260423T083500Z
DTSTART:20260531T170000Z
DTEND:20260531T190000Z
LOCATION:Martin Library, 159 East Market St, York, PA 17401, United States
ROOM: Martin Library Block Party &amp; SummerQuest Kick off
DESCRIPTION:Join us for this afternoon filled with fun as we celebrate Mar
 tin Library and the start of our SummerQuest program.Food, Music, Games, e
 ntertainment, and more!All ages can sign up for Summerquest and pick up re
 gistration materials!
URL:https://events.yorklibraries.org/event/martin-library-block-party-summ
 erquest-kick-22462
END:VEVENT
END:VCALENDAR
