BEGIN:VCALENDAR
VERSION:2.0
PRODID:-//Library Market//iCal Export//EN
BEGIN:VEVENT
SUMMARY:Tracking a Dinosaur with Jeri Jones
UID:22476
DTSTAMP:20260424T071300Z
DTSTART:20260730T170000Z
DTEND:20260730T174500Z
LOCATION:Kreutz Creek Library, 66 Walnut Springs Road, Hellam, PA 17406, U
 nited States
ROOM: KRE Community Room
DESCRIPTION:In Pennsylvania, we have only found footprints of dinosaurs, n
 o bones. A geologist for 48 years in York County and specializing in geolo
 gic education, Jeri Jones of Jones Geological Services will show how paleo
 ntologists learn about a dinosaur just from a footprint! Take a look at so
 me real fossils and you may even get to take something special home! 
URL:https://events.yorklibraries.org/event/tracking-dinosaur-jeri-jones-22
 476
END:VEVENT
END:VCALENDAR
