BEGIN:VCALENDAR
VERSION:2.0
PRODID:-//Library Market//iCal Export//EN
BEGIN:VEVENT
SUMMARY:The Eclectic Book Club
UID:22488
DTSTAMP:20260425T011600Z
DTSTART:20260520T220000Z
DTEND:20260520T230000Z
LOCATION:Kaltreider-Benfer Library, 147 S. Charles Street, Red Lion, PA 17
 356, United States
ROOM: KAL Literacy Room
DESCRIPTION:Looking to shake up your reading routine? Join our Eclectic Bo
 ok Club, where no genre is off-limits and every month brings something new
  to discover! From classics to contemporary hits, we’ll explore a wide r
 ange of stories and perspectives in a relaxed, welcoming setting.We meet t
 he third Wednesday of each month from 6-7pm.We’re kicking things off wit
 h a true classic—Frankenstein by Mary Shelley. Whether you’re revisiti
 ng it or reading it for the first time, it’s the perfect way to dive int
 o thoughtful discussion and great company.  The following reads will be p
 icked by the group!Copies are available through the York County Library Sy
 stem and can be placed on hold using your library card.Come for the books,
  stay for the conversation—we’d love to have you join us!
URL:https://events.yorklibraries.org/event/eclectic-book-club-22488
END:VEVENT
END:VCALENDAR
